BEGIN:VCALENDAR
VERSION:2.0
PRODID:-//wp-events-plugin.com//7.2.3.1//EN
BEGIN:VEVENT
UID:5@quatrepsi.com.ar
DTSTART;TZID=America/Argentina/Buenos_Aires:20260509T140000
DTEND;TZID=America/Argentina/Buenos_Aires:20260509T160000
DTSTAMP:20260424T223515Z
URL:https://quatrepsi.com.ar/eventos/cine-y-psicoanalisis-con-freud/
SUMMARY:Cine y Psicoanálisis con Freud
DESCRIPTION:Te invitamos al espacio Cine y Psicoanálisis.\n\nPara unir la 
 teoría y práctica\, creamos un espacio en diálogo sobre la película do
 cumental: Freud\, un judío sin dios. \n\nDirector David Teboul.\nFrancia
 \, 2019\nDocumental\n\nUn documental hermoso que para nosotros es consider
 ado como la Creación del Psicoanálisis.\n\nA través de bellas y dramát
 icas imágenes de archivo\, basándose en su correspondencia\, David Tebou
 l relata un Sigmund Freud íntimo. Un retrato conmovedor del padre del psi
 coanálisis y una gran novela familiar.\n\nA lo largo de su historia\, Sig
 mund Freud devela la construcción de su psique\, la compleja relación co
 n el padre\, el amor de la madre\, el deslumbramiento del niño también\,
  que descubre\, en la Biblia de Philippson\, la saga egipcia de Moises.\n\
 nLa película nos invita a contemplar su tiempo histórico y el corazón d
 e su intimidad\, entre el entusiasmo y la depresión\, el éxito y el frac
 aso\, amistades intensas\, desde Wilhelm Fliess hasta Carl Gustav Jung y d
 esde Lou Andreas-Salomé hasta Marie Bonaparte. También revela un padre a
 moroso\, a quien las mujeres de su vida intentan proteger.\n\nDavid Teboul
  se inspira en el proceso de asociación libre para sugerir los hechos que
  marcaron su épica intelectual. Fragmentos de historia y escenas cotidian
 as impregnan la película\, reminiscencias oníricas que hacen a Freud ext
 rañamente cercano y entrañable\, poderoso y vulnerable.\n\n\nFormato del
  encuentro\nPlataforma Zoom\nSábado 09 de Mayo de 14 a 16hs\nActividad gr
 atuita con inscripción previa en el formulario debajo.\n\n\nPara inscribi
 rse\n\nEste encuentro está dirigido a estudiantes de psicología\, Psicó
 logas/os y profesionales de la salud.\nPara inscribirte\, debes completar 
 el formulario aquí debajo\, para que luego podamos compartir la película
  documental  y puedas verla antes de encontrarnos el día sábado 09 de M
 ayo.\nEl día del encuentro será abrir espacio al diálogo sobre este doc
 umental (no para ver el documental en vivo) donde podremos compartir todas
  las sensaciones y pensamientos que esta historia real nos haya despertado
  y su conexión con el psicoanálisis\, por eso es importante que la hayas
  visto antes de este encuentro.\n\n\n&nbsp\;\n\n&nbsp\;\n\n&nbsp\;
ATTACH;FMTTYPE=image/jpeg:https://quatrepsi.com.ar/wp-content/uploads/2026
 /04/WhatsApp-Image-2026-04-20-at-9.49.02-AM.jpeg
LOCATION:http://Link%20de%20Zoom
END:VEVENT
BEGIN:VTIMEZONE
TZID:America/Argentina/Buenos_Aires
X-LIC-LOCATION:America/Argentina/Buenos_Aires
BEGIN:STANDARD
DTSTART:20250509T140000
TZOFFSETFROM:-0300
TZOFFSETTO:-0300
TZNAME:-03
END:STANDARD
END:VTIMEZONE
END:VCALENDAR